BEGIN:VCALENDAR
VERSION:2.0
PRODID:-//Vinco Valves - ECPv6.8.3//NONSGML v1.0//EN
CALSCALE:GREGORIAN
METHOD:PUBLISH
X-ORIGINAL-URL:https://vincovalves.com
X-WR-CALDESC:Events for Vinco Valves
REFRESH-INTERVAL;VALUE=DURATION:PT1H
X-Robots-Tag:noindex
X-PUBLISHED-TTL:PT1H
BEGIN:VTIMEZONE
TZID:Europe/Lisbon
BEGIN:DAYLIGHT
TZOFFSETFROM:+0000
TZOFFSETTO:+0100
TZNAME:WEST
DTSTART:20260329T010000
END:DAYLIGHT
BEGIN:STANDARD
TZOFFSETFROM:+0100
TZOFFSETTO:+0000
TZNAME:WET
DTSTART:20261025T010000
END:STANDARD
END:VTIMEZONE
BEGIN:VEVENT
DTSTART;VALUE=DATE:20260914
DTEND;VALUE=DATE:20260918
DTSTAMP:20260424T205150
CREATED:20260106T125355Z
LAST-MODIFIED:20260106T125355Z
UID:10000014-1789344000-1789689599@vincovalves.com
SUMMARY:Gastech
DESCRIPTION:At Gastech 2026 in Bangkok\, the spotlight will be on the future of gas\, LNG\, and energy. Vinco Valves will be at the forefront\, presenting advanced valve solutions and connecting with global industry leaders to drive innovation and shape the next era of energy.
URL:https://vincovalves.com/event/gastech-2026/
LOCATION:Bangkok International Trade & Exhibition Centre: BITEC\, 88 Debaratna Rd\, Bangkok\, 10260\, Thailand
ATTACH;FMTTYPE=image/jpeg:https://vincovalves.com/wp-content/uploads/2026/01/Gastech-2026.jpg
END:VEVENT
END:VCALENDAR